BEGIN:VCALENDAR
VERSION:2.0
PRODID:Events Booking
BEGIN:VEVENT
UID:69e80ef67e102
SUMMARY:ACAVe TRAVEL MARKET Santander 2026
DESCRIPTION:ACAVe TRAVEL MARKET\, 29 de abril 2026: Santander&nbsp\;- Próx
 imamente invitación y apertura de inscripciones - evento abierto a todas 
 las Agencias de Viajes.
 ACAVe TRAVEL MARKET\, 29 d'abril 2026: Santander
 &nbsp\;- Pròximament invitació i obertura de inscripcions - acte obert a
  totes les Agències de Viatges.
DTSTART:20260429T110000Z
DTEND:20260429T140000Z
DTSTAMP:20230129T104300Z
ORGANIZER;CN=ACAVe:MAILTO:info@acave.travel
END:VEVENT
END:VCALENDAR